BEGIN:VCALENDAR
VERSION:2.0
PRODID:-//Hilltop - ECPv6.15.18//NONSGML v1.0//EN
CALSCALE:GREGORIAN
METHOD:PUBLISH
X-ORIGINAL-URL:https://hilltop-house.org
X-WR-CALDESC:Events for Hilltop
REFRESH-INTERVAL;VALUE=DURATION:PT1H
X-Robots-Tag:noindex
X-PUBLISHED-TTL:PT1H
BEGIN:VTIMEZONE
TZID:America/Los_Angeles
BEGIN:DAYLIGHT
TZOFFSETFROM:-0800
TZOFFSETTO:-0700
TZNAME:PDT
DTSTART:20250309T100000
END:DAYLIGHT
BEGIN:STANDARD
TZOFFSETFROM:-0700
TZOFFSETTO:-0800
TZNAME:PST
DTSTART:20251102T090000
END:STANDARD
BEGIN:DAYLIGHT
TZOFFSETFROM:-0800
TZOFFSETTO:-0700
TZNAME:PDT
DTSTART:20260308T100000
END:DAYLIGHT
BEGIN:STANDARD
TZOFFSETFROM:-0700
TZOFFSETTO:-0800
TZNAME:PST
DTSTART:20261101T090000
END:STANDARD
BEGIN:DAYLIGHT
TZOFFSETFROM:-0800
TZOFFSETTO:-0700
TZNAME:PDT
DTSTART:20270314T100000
END:DAYLIGHT
BEGIN:STANDARD
TZOFFSETFROM:-0700
TZOFFSETTO:-0800
TZNAME:PST
DTSTART:20271107T090000
END:STANDARD
END:VTIMEZONE
BEGIN:VEVENT
DTSTART;TZID=America/Los_Angeles:20260216T000000
DTEND;TZID=America/Los_Angeles:20260216T000000
DTSTAMP:20260422T070431
CREATED:20260129T173012Z
LAST-MODIFIED:20260129T173012Z
UID:10003812-1771200000-1771200000@hilltop-house.org
SUMMARY:Office is Closed for President's Day
DESCRIPTION:
URL:https://hilltop-house.org/event/office-is-closed-for-presidents-day/
END:VEVENT
BEGIN:VEVENT
DTSTART;TZID=America/Los_Angeles:20260217T093000
DTEND;TZID=America/Los_Angeles:20260217T093000
DTSTAMP:20260422T070431
CREATED:20260129T173111Z
LAST-MODIFIED:20260129T173111Z
UID:10003813-1771320600-1771320600@hilltop-house.org
SUMMARY:Book Mobile
DESCRIPTION:
URL:https://hilltop-house.org/event/book-mobile-13/
END:VEVENT
BEGIN:VEVENT
DTSTART;TZID=America/Los_Angeles:20260217T120000
DTEND;TZID=America/Los_Angeles:20260217T120000
DTSTAMP:20260422T070431
CREATED:20260129T173111Z
LAST-MODIFIED:20260129T173111Z
UID:10003814-1771329600-1771329600@hilltop-house.org
SUMMARY:Soup & Dessert
DESCRIPTION:
URL:https://hilltop-house.org/event/soup-dessert-4/
END:VEVENT
BEGIN:VEVENT
DTSTART;TZID=America/Los_Angeles:20260217T130000
DTEND;TZID=America/Los_Angeles:20260217T130000
DTSTAMP:20260422T070431
CREATED:20260129T173112Z
LAST-MODIFIED:20260129T173112Z
UID:10003815-1771333200-1771333200@hilltop-house.org
SUMMARY:Sit & Stretch
DESCRIPTION:
URL:https://hilltop-house.org/event/sit-stretch-337/
END:VEVENT
BEGIN:VEVENT
DTSTART;TZID=America/Los_Angeles:20260218T110000
DTEND;TZID=America/Los_Angeles:20260218T110000
DTSTAMP:20260422T070431
CREATED:20260129T173112Z
LAST-MODIFIED:20260129T173112Z
UID:10003816-1771412400-1771412400@hilltop-house.org
SUMMARY:Strength & Balance
DESCRIPTION:
URL:https://hilltop-house.org/event/strength-balance-140/
END:VEVENT
BEGIN:VEVENT
DTSTART;TZID=America/Los_Angeles:20260218T140000
DTEND;TZID=America/Los_Angeles:20260218T140000
DTSTAMP:20260422T070431
CREATED:20260129T173113Z
LAST-MODIFIED:20260129T173113Z
UID:10003817-1771423200-1771423200@hilltop-house.org
SUMMARY:Crafting & Coloring
DESCRIPTION:
URL:https://hilltop-house.org/event/crafting-coloring-55/
END:VEVENT
BEGIN:VEVENT
DTSTART;TZID=America/Los_Angeles:20260219T110000
DTEND;TZID=America/Los_Angeles:20260219T110000
DTSTAMP:20260422T070431
CREATED:20260129T173212Z
LAST-MODIFIED:20260129T173212Z
UID:10003818-1771498800-1771498800@hilltop-house.org
SUMMARY:Meditation
DESCRIPTION:
URL:https://hilltop-house.org/event/meditation-14/
END:VEVENT
BEGIN:VEVENT
DTSTART;TZID=America/Los_Angeles:20260219T140000
DTEND;TZID=America/Los_Angeles:20260219T140000
DTSTAMP:20260422T070431
CREATED:20260129T173213Z
LAST-MODIFIED:20260129T173213Z
UID:10003819-1771509600-1771509600@hilltop-house.org
SUMMARY:February Birthdays
DESCRIPTION:
URL:https://hilltop-house.org/event/february-birthdays-3/
END:VEVENT
BEGIN:VEVENT
DTSTART;TZID=America/Los_Angeles:20260219T140000
DTEND;TZID=America/Los_Angeles:20260219T140000
DTSTAMP:20260422T070431
CREATED:20260129T173213Z
LAST-MODIFIED:20260129T173213Z
UID:10003820-1771509600-1771509600@hilltop-house.org
SUMMARY:Scrabble
DESCRIPTION:
URL:https://hilltop-house.org/event/scrabble-73/
END:VEVENT
BEGIN:VEVENT
DTSTART;TZID=America/Los_Angeles:20260220T090000
DTEND;TZID=America/Los_Angeles:20260220T090000
DTSTAMP:20260422T070431
CREATED:20260129T173214Z
LAST-MODIFIED:20260129T173214Z
UID:10003821-1771578000-1771578000@hilltop-house.org
SUMMARY:Coffee Klatsch
DESCRIPTION:
URL:https://hilltop-house.org/event/coffee-klatsch-156/
END:VEVENT
BEGIN:VEVENT
DTSTART;TZID=America/Los_Angeles:20260220T133000
DTEND;TZID=America/Los_Angeles:20260220T133000
DTSTAMP:20260422T070431
CREATED:20260129T173214Z
LAST-MODIFIED:20260129T173214Z
UID:10003822-1771594200-1771594200@hilltop-house.org
SUMMARY:Marty
DESCRIPTION:
URL:https://hilltop-house.org/event/marty-174/
END:VEVENT
BEGIN:VEVENT
DTSTART;TZID=America/Los_Angeles:20260220T140000
DTEND;TZID=America/Los_Angeles:20260220T140000
DTSTAMP:20260422T070431
CREATED:20260129T173310Z
LAST-MODIFIED:20260129T173310Z
UID:10003823-1771596000-1771596000@hilltop-house.org
SUMMARY:Card Games
DESCRIPTION:
URL:https://hilltop-house.org/event/card-games-14/
END:VEVENT
END:VCALENDAR