BEGIN:VCALENDAR
VERSION:2.0
PRODID:-//Hilltop - ECPv6.15.18//NONSGML v1.0//EN
CALSCALE:GREGORIAN
METHOD:PUBLISH
X-WR-CALNAME:Hilltop
X-ORIGINAL-URL:https://hilltop-house.org
X-WR-CALDESC:Events for Hilltop
REFRESH-INTERVAL;VALUE=DURATION:PT1H
X-Robots-Tag:noindex
X-PUBLISHED-TTL:PT1H
BEGIN:VTIMEZONE
TZID:America/Los_Angeles
BEGIN:DAYLIGHT
TZOFFSETFROM:-0800
TZOFFSETTO:-0700
TZNAME:PDT
DTSTART:20250309T100000
END:DAYLIGHT
BEGIN:STANDARD
TZOFFSETFROM:-0700
TZOFFSETTO:-0800
TZNAME:PST
DTSTART:20251102T090000
END:STANDARD
BEGIN:DAYLIGHT
TZOFFSETFROM:-0800
TZOFFSETTO:-0700
TZNAME:PDT
DTSTART:20260308T100000
END:DAYLIGHT
BEGIN:STANDARD
TZOFFSETFROM:-0700
TZOFFSETTO:-0800
TZNAME:PST
DTSTART:20261101T090000
END:STANDARD
BEGIN:DAYLIGHT
TZOFFSETFROM:-0800
TZOFFSETTO:-0700
TZNAME:PDT
DTSTART:20270314T100000
END:DAYLIGHT
BEGIN:STANDARD
TZOFFSETFROM:-0700
TZOFFSETTO:-0800
TZNAME:PST
DTSTART:20271107T090000
END:STANDARD
END:VTIMEZONE
BEGIN:VEVENT
DTSTART;TZID=America/Los_Angeles:20260406T140000
DTEND;TZID=America/Los_Angeles:20260406T140000
DTSTAMP:20260420T010449
CREATED:20260331T172549Z
LAST-MODIFIED:20260331T172550Z
UID:10003841-1775484000-1775484000@hilltop-house.org
SUMMARY:Garden Plot Meeting
DESCRIPTION:
URL:https://hilltop-house.org/event/garden-plot-meeting/
END:VEVENT
BEGIN:VEVENT
DTSTART;TZID=America/Los_Angeles:20260407T120000
DTEND;TZID=America/Los_Angeles:20260407T120000
DTSTAMP:20260420T010449
CREATED:20260331T172652Z
LAST-MODIFIED:20260331T172652Z
UID:10003843-1775563200-1775563200@hilltop-house.org
SUMMARY:Community BBQ Potluck
DESCRIPTION:
URL:https://hilltop-house.org/event/community-bbq-potluck/
END:VEVENT
BEGIN:VEVENT
DTSTART;TZID=America/Los_Angeles:20260407T130000
DTEND;TZID=America/Los_Angeles:20260407T130000
DTSTAMP:20260420T010449
CREATED:20260331T172549Z
LAST-MODIFIED:20260331T172550Z
UID:10003842-1775566800-1775566800@hilltop-house.org
SUMMARY:Sit & Stretch
DESCRIPTION:
URL:https://hilltop-house.org/event/sit-stretch-339/
END:VEVENT
BEGIN:VEVENT
DTSTART;TZID=America/Los_Angeles:20260407T143000
DTEND;TZID=America/Los_Angeles:20260407T143000
DTSTAMP:20260420T010449
CREATED:20260331T172652Z
LAST-MODIFIED:20260331T172652Z
UID:10003844-1775572200-1775572200@hilltop-house.org
SUMMARY:Canasta
DESCRIPTION:
URL:https://hilltop-house.org/event/canasta-9/
END:VEVENT
BEGIN:VEVENT
DTSTART;TZID=America/Los_Angeles:20260408T124500
DTEND;TZID=America/Los_Angeles:20260408T124500
DTSTAMP:20260420T010449
CREATED:20260331T172653Z
LAST-MODIFIED:20260331T172653Z
UID:10003845-1775652300-1775652300@hilltop-house.org
SUMMARY:Strength & Balance
DESCRIPTION:
URL:https://hilltop-house.org/event/strength-balance-142/
END:VEVENT
BEGIN:VEVENT
DTSTART;TZID=America/Los_Angeles:20260408T140000
DTEND;TZID=America/Los_Angeles:20260408T140000
DTSTAMP:20260420T010449
CREATED:20260331T172653Z
LAST-MODIFIED:20260331T172653Z
UID:10003846-1775656800-1775656800@hilltop-house.org
SUMMARY:Crafting & Coloring
DESCRIPTION:
URL:https://hilltop-house.org/event/crafting-coloring-58/
END:VEVENT
BEGIN:VEVENT
DTSTART;TZID=America/Los_Angeles:20260409T110000
DTEND;TZID=America/Los_Angeles:20260409T110000
DTSTAMP:20260420T010449
CREATED:20260331T172653Z
LAST-MODIFIED:20260331T172653Z
UID:10003847-1775732400-1775732400@hilltop-house.org
SUMMARY:Meditation
DESCRIPTION:
URL:https://hilltop-house.org/event/meditation-17/
END:VEVENT
BEGIN:VEVENT
DTSTART;TZID=America/Los_Angeles:20260409T130000
DTEND;TZID=America/Los_Angeles:20260409T130000
DTSTAMP:20260420T010449
CREATED:20260331T172753Z
LAST-MODIFIED:20260331T172753Z
UID:10003848-1775739600-1775739600@hilltop-house.org
SUMMARY:Stride & Thrive Walk
DESCRIPTION:
URL:https://hilltop-house.org/event/stride-thrive-walk/
END:VEVENT
BEGIN:VEVENT
DTSTART;TZID=America/Los_Angeles:20260409T140000
DTEND;TZID=America/Los_Angeles:20260409T140000
DTSTAMP:20260420T010449
CREATED:20260331T172754Z
LAST-MODIFIED:20260331T172754Z
UID:10003849-1775743200-1775743200@hilltop-house.org
SUMMARY:Scrabble
DESCRIPTION:
URL:https://hilltop-house.org/event/scrabble-76/
END:VEVENT
BEGIN:VEVENT
DTSTART;TZID=America/Los_Angeles:20260410T090000
DTEND;TZID=America/Los_Angeles:20260410T090000
DTSTAMP:20260420T010449
CREATED:20260331T172754Z
LAST-MODIFIED:20260331T172754Z
UID:10003850-1775811600-1775811600@hilltop-house.org
SUMMARY:Coffee Klatsch
DESCRIPTION:
URL:https://hilltop-house.org/event/coffee-klatsch-159/
END:VEVENT
BEGIN:VEVENT
DTSTART;TZID=America/Los_Angeles:20260410T133000
DTEND;TZID=America/Los_Angeles:20260410T133000
DTSTAMP:20260420T010449
CREATED:20260331T172754Z
LAST-MODIFIED:20260331T172754Z
UID:10003851-1775827800-1775827800@hilltop-house.org
SUMMARY:Marty IT
DESCRIPTION:
URL:https://hilltop-house.org/event/marty-it-4/
END:VEVENT
BEGIN:VEVENT
DTSTART;TZID=America/Los_Angeles:20260410T140000
DTEND;TZID=America/Los_Angeles:20260410T140000
DTSTAMP:20260420T010449
CREATED:20260331T172755Z
LAST-MODIFIED:20260331T172755Z
UID:10003852-1775829600-1775829600@hilltop-house.org
SUMMARY:Card Games
DESCRIPTION:
URL:https://hilltop-house.org/event/card-games-17/
END:VEVENT
END:VCALENDAR